BEGIN:VCALENDAR
VERSION:2.0
PRODID:-//Settlement Online Pre-Arrival (SOPA) - ECPv6.15.17.1//NONSGML v1.0//EN
CALSCALE:GREGORIAN
METHOD:PUBLISH
X-ORIGINAL-URL:https://arriveprepared.ca/fr/
X-WR-CALDESC:Évènements pour Settlement Online Pre-Arrival (SOPA)
REFRESH-INTERVAL;VALUE=DURATION:PT1H
X-Robots-Tag:noindex
X-PUBLISHED-TTL:PT1H
BEGIN:VTIMEZONE
TZID:America/Toronto
BEGIN:DAYLIGHT
TZOFFSETFROM:-0500
TZOFFSETTO:-0400
TZNAME:EDT
DTSTART:20250309T070000
END:DAYLIGHT
BEGIN:STANDARD
TZOFFSETFROM:-0400
TZOFFSETTO:-0500
TZNAME:EST
DTSTART:20251102T060000
END:STANDARD
BEGIN:DAYLIGHT
TZOFFSETFROM:-0500
TZOFFSETTO:-0400
TZNAME:EDT
DTSTART:20260308T070000
END:DAYLIGHT
BEGIN:STANDARD
TZOFFSETFROM:-0400
TZOFFSETTO:-0500
TZNAME:EST
DTSTART:20261101T060000
END:STANDARD
BEGIN:DAYLIGHT
TZOFFSETFROM:-0500
TZOFFSETTO:-0400
TZNAME:EDT
DTSTART:20270314T070000
END:DAYLIGHT
BEGIN:STANDARD
TZOFFSETFROM:-0400
TZOFFSETTO:-0500
TZNAME:EST
DTSTART:20271107T060000
END:STANDARD
END:VTIMEZONE
BEGIN:VEVENT
DTSTART;TZID=America/Toronto:20260313T100000
DTEND;TZID=America/Toronto:20260313T110000
DTSTAMP:20260421T204134
CREATED:20260301T140023Z
LAST-MODIFIED:20260301T140023Z
UID:19744-1773396000-1773399600@arriveprepared.ca
SUMMARY:Réseautage par les pairs : Une fois sur place\, l'Ontario
DESCRIPTION:Date et heure : Vendredi 13 mars\, de 10h00 à 11h00 (heure de l’Est)  \nDescription : Au cours de cette session\, nos panélistes\, eux-mêmes récemment arrivés\, parleront ouvertement de ce qui les attend\, des défis auxquels ils ont été confrontés\, de ce qui les a aidés à réussir et des leçons qu’ils auraient aimé connaître avant d’arriver. \nPrésentateur : Dragana Mrdjenovic et conférenciers invités \n*Pour vous inscrire\, les clients de la SOPA vérifient vos courriels pour notre bulletin d’information sur les événements de janvier avec des liens pour s’inscrire ou nous envoyer un courriel : info@arriveprepared.ca. \nSi vous n’êtes pas encore client de SOPA\, inscrivez-vous en tant que nouveau client pour bénéficier d’un soutien à l’emploi et accéder à nos événements mensuels !
URL:https://arriveprepared.ca/fr/event/reseautage-par-les-pairs-une-fois-sur-place-lontario/
CATEGORIES:Réseau de pairs
ORGANIZER;CN="SOPA":MAILTO:info@arriveprepared.ca
END:VEVENT
END:VCALENDAR