BEGIN:VCALENDAR
VERSION:2.0
PRODID:-//Settlement Online Pre-Arrival (SOPA) - ECPv6.15.17.1//NONSGML v1.0//EN
CALSCALE:GREGORIAN
METHOD:PUBLISH
X-ORIGINAL-URL:https://arriveprepared.ca/fr/
X-WR-CALDESC:Évènements pour Settlement Online Pre-Arrival (SOPA)
REFRESH-INTERVAL;VALUE=DURATION:PT1H
X-Robots-Tag:noindex
X-PUBLISHED-TTL:PT1H
BEGIN:VTIMEZONE
TZID:America/Toronto
BEGIN:DAYLIGHT
TZOFFSETFROM:-0500
TZOFFSETTO:-0400
TZNAME:EDT
DTSTART:20240310T070000
END:DAYLIGHT
BEGIN:STANDARD
TZOFFSETFROM:-0400
TZOFFSETTO:-0500
TZNAME:EST
DTSTART:20241103T060000
END:STANDARD
BEGIN:DAYLIGHT
TZOFFSETFROM:-0500
TZOFFSETTO:-0400
TZNAME:EDT
DTSTART:20250309T070000
END:DAYLIGHT
BEGIN:STANDARD
TZOFFSETFROM:-0400
TZOFFSETTO:-0500
TZNAME:EST
DTSTART:20251102T060000
END:STANDARD
BEGIN:DAYLIGHT
TZOFFSETFROM:-0500
TZOFFSETTO:-0400
TZNAME:EDT
DTSTART:20260308T070000
END:DAYLIGHT
BEGIN:STANDARD
TZOFFSETFROM:-0400
TZOFFSETTO:-0500
TZNAME:EST
DTSTART:20261101T060000
END:STANDARD
END:VTIMEZONE
BEGIN:VEVENT
DTSTART;TZID=America/Toronto:20251112T100000
DTEND;TZID=America/Toronto:20251112T110000
DTSTAMP:20260422T055636
CREATED:20251031T181653Z
LAST-MODIFIED:20251031T181653Z
UID:19418-1762941600-1762945200@arriveprepared.ca
SUMMARY:Réseau de pairs de la Saskatchewan : Ma ville : Regina
DESCRIPTION:Date et heure : mercredi 12 novembre\, 10h00 ET \nDescription : Joignez-vous à Jennifer et Sajjad de l’équipe de SOPA Saskatchewan et découvrez la capitale de notre province\, Regina. Également connue sous le nom de Pile’o’Bones\, Regina est située dans la partie sud de la Saskatchewan et est la deuxième plus grande ville de la province. Au cours de cet événement\, vous aurez l’occasion de faire du réseautage avec vos collègues clients de SOPA qui se rendent à Regina.   \nPrésentateur : Allan Pulga\, Ville de Regina Communications. \n*Pour vous inscrire\, envoyez-nous un courriel à l’adresse suivante : info@arriveprepared.ca. Si vous n’êtes pas encore client de SOPA\, veuillez vous inscrire en tant que nouveau client pour bénéficier d’une aide à l’emploi.
URL:https://arriveprepared.ca/fr/event/reseau-de-pairs-de-la-saskatchewan-ma-ville-regina/
CATEGORIES:Réseau de pairs
END:VEVENT
END:VCALENDAR