BEGIN:VCALENDAR
VERSION:2.0
PRODID:-//Settlement Online Pre-Arrival (SOPA) - ECPv6.15.17.1//NONSGML v1.0//EN
CALSCALE:GREGORIAN
METHOD:PUBLISH
X-WR-CALNAME:Settlement Online Pre-Arrival (SOPA)
X-ORIGINAL-URL:https://arriveprepared.ca/fr/
X-WR-CALDESC:Évènements pour Settlement Online Pre-Arrival (SOPA)
REFRESH-INTERVAL;VALUE=DURATION:PT1H
X-Robots-Tag:noindex
X-PUBLISHED-TTL:PT1H
BEGIN:VTIMEZONE
TZID:America/Regina
BEGIN:STANDARD
TZOFFSETFROM:-0600
TZOFFSETTO:-0600
TZNAME:CST
DTSTART:20240101T000000
END:STANDARD
END:VTIMEZONE
BEGIN:VEVENT
DTSTART;TZID=America/Regina:20250915T100000
DTEND;TZID=America/Regina:20250915T110000
DTSTAMP:20260421T053118
CREATED:20250904T140934Z
LAST-MODIFIED:20250904T175206Z
UID:19129-1757930400-1757934000@arriveprepared.ca
SUMMARY:Ma ville : Alberta - Edmonton avec Careene McCallum
DESCRIPTION:Date et heure : 15 septembre\, 10 heures MST. \nDescription : Vous venez d’arriver au Canada ou vous envisagez de vous installer à Edmonton ? Rejoignez-nous pour l’événement Ma ville : Edmonton\, une session spéciale conçue pour aider les nouveaux arrivants et les immigrants à en savoir plus sur la vie dans notre ville. Cette séance interactive portera sur les sujets suivants : Les ressources et les opportunités communautaires à Edmonton\, la navigation dans une nouvelle ville (conduite\, météo\, etc.)\, les conseils pour faciliter votre parcours d’établissement. Les expériences personnelles de membres de la communauté qui ont choisi Edmonton comme lieu de résidence.   \nPrésentateur : Careene McCallum : Consultante internationale en éducation\, coach en apprentissage numérique et enseignante en informatique. \n*Pour vous inscrire\, envoyez-nous un courriel à l’adresse suivante : info@arriveprepared.ca. Si vous n’êtes pas encore client de SOPA\, veuillez vous inscrire en tant que nouveau client pour bénéficier d’une aide à l’emploi.
URL:https://arriveprepared.ca/fr/event/ma-ville-edmonton-avec-careene-mccallum/
CATEGORIES:Événements dans ma ville
ORGANIZER;CN="SOPA":MAILTO:info@arriveprepared.ca
END:VEVENT
END:VCALENDAR