BEGIN:VCALENDAR
VERSION:2.0
PRODID:-//Settlement Online Pre-Arrival (SOPA) - ECPv6.15.17.1//NONSGML v1.0//EN
CALSCALE:GREGORIAN
METHOD:PUBLISH
X-ORIGINAL-URL:https://arriveprepared.ca
X-WR-CALDESC:Events for Settlement Online Pre-Arrival (SOPA)
REFRESH-INTERVAL;VALUE=DURATION:PT1H
X-Robots-Tag:noindex
X-PUBLISHED-TTL:PT1H
BEGIN:VTIMEZONE
TZID:America/Toronto
BEGIN:DAYLIGHT
TZOFFSETFROM:-0500
TZOFFSETTO:-0400
TZNAME:EDT
DTSTART:20240310T070000
END:DAYLIGHT
BEGIN:STANDARD
TZOFFSETFROM:-0400
TZOFFSETTO:-0500
TZNAME:EST
DTSTART:20241103T060000
END:STANDARD
BEGIN:DAYLIGHT
TZOFFSETFROM:-0500
TZOFFSETTO:-0400
TZNAME:EDT
DTSTART:20250309T070000
END:DAYLIGHT
BEGIN:STANDARD
TZOFFSETFROM:-0400
TZOFFSETTO:-0500
TZNAME:EST
DTSTART:20251102T060000
END:STANDARD
BEGIN:DAYLIGHT
TZOFFSETFROM:-0500
TZOFFSETTO:-0400
TZNAME:EDT
DTSTART:20260308T070000
END:DAYLIGHT
BEGIN:STANDARD
TZOFFSETFROM:-0400
TZOFFSETTO:-0500
TZNAME:EST
DTSTART:20261101T060000
END:STANDARD
END:VTIMEZONE
BEGIN:VTIMEZONE
TZID:America/Vancouver
BEGIN:DAYLIGHT
TZOFFSETFROM:-0800
TZOFFSETTO:-0700
TZNAME:PDT
DTSTART:20240310T100000
END:DAYLIGHT
BEGIN:STANDARD
TZOFFSETFROM:-0700
TZOFFSETTO:-0800
TZNAME:PST
DTSTART:20241103T090000
END:STANDARD
BEGIN:DAYLIGHT
TZOFFSETFROM:-0800
TZOFFSETTO:-0700
TZNAME:PDT
DTSTART:20250309T100000
END:DAYLIGHT
BEGIN:STANDARD
TZOFFSETFROM:-0700
TZOFFSETTO:-0800
TZNAME:PST
DTSTART:20251102T090000
END:STANDARD
BEGIN:DAYLIGHT
TZOFFSETFROM:-0800
TZOFFSETTO:-0700
TZNAME:PDT
DTSTART:20260308T100000
END:DAYLIGHT
BEGIN:STANDARD
TZOFFSETFROM:-0700
TZOFFSETTO:-0800
TZNAME:PST
DTSTART:20261101T090000
END:STANDARD
END:VTIMEZONE
BEGIN:VTIMEZONE
TZID:America/Winnipeg
BEGIN:DAYLIGHT
TZOFFSETFROM:-0600
TZOFFSETTO:-0500
TZNAME:CDT
DTSTART:20240310T080000
END:DAYLIGHT
BEGIN:STANDARD
TZOFFSETFROM:-0500
TZOFFSETTO:-0600
TZNAME:CST
DTSTART:20241103T070000
END:STANDARD
BEGIN:DAYLIGHT
TZOFFSETFROM:-0600
TZOFFSETTO:-0500
TZNAME:CDT
DTSTART:20250309T080000
END:DAYLIGHT
BEGIN:STANDARD
TZOFFSETFROM:-0500
TZOFFSETTO:-0600
TZNAME:CST
DTSTART:20251102T070000
END:STANDARD
BEGIN:DAYLIGHT
TZOFFSETFROM:-0600
TZOFFSETTO:-0500
TZNAME:CDT
DTSTART:20260308T080000
END:DAYLIGHT
BEGIN:STANDARD
TZOFFSETFROM:-0500
TZOFFSETTO:-0600
TZNAME:CST
DTSTART:20261101T070000
END:STANDARD
END:VTIMEZONE
BEGIN:VEVENT
DTSTART;TZID=America/Toronto:20250910T100000
DTEND;TZID=America/Toronto:20250910T110000
DTSTAMP:20260424T044650
CREATED:20250904T140131Z
LAST-MODIFIED:20250904T174046Z
UID:19124-1757498400-1757502000@arriveprepared.ca
SUMMARY:Meet the Employer: Ontario - Royal Bank of Canada (RBC)
DESCRIPTION:Date and Time: Wednesday\, September 10th at 10 a.m. Eastern Time \nDescription: Working at RBC – Careers Panel and Story Telling. Join us at this SOPA employer event to learn more about the Canadian employer RBC. You will hear directly from experienced RBC branch managers and staff as they share insights about working at RBC\, discuss their career journeys\, and answer your questions live. Limited spots available\, register now! \nPresenter: RBC Staff \n*To register\, email us: info@arriveprepared.ca. If you are not yet a SOPA client\, please register as a new client to get employment support.
URL:https://arriveprepared.ca/event/sopa-employer-event-ontario-meet-the-employer-royal-bank-of-canada-rbc-working-at-rbc-careers-panel-and-story-telling/
CATEGORIES:Employer Connection
ORGANIZER;CN="SOPA":MAILTO:info@arriveprepared.ca
END:VEVENT
BEGIN:VEVENT
DTSTART;TZID=America/Vancouver:20250919T080000
DTEND;TZID=America/Vancouver:20250919T090000
DTSTAMP:20260424T044650
CREATED:20250904T142642Z
LAST-MODIFIED:20250904T144632Z
UID:19137-1758268800-1758272400@arriveprepared.ca
SUMMARY:Information Session: Newcomer Services in British Columbia: WorkBC and Career Paths for Skilled Immigrants Programs
DESCRIPTION:Date & Time: 19 September 2025 • 8:00 am – Pacific time (Vancouver time) \nDescription: In this session\, you will learn about programs and supports available to help you settle and find meaningful employment in British Columbia\, including an overview of WorkBC Employment Services\, the Career Paths for Skilled Immigrants program\, steps to access these services\, and what to expect after registration. \nPresenter: Vaneza Villaceran\, WorkBC Catchment Manager; Vivian Rafla\, Coordinator – Employment Programs -MOSAIC \n*To register\, email us: info@arriveprepared.ca. If you are not yet a SOPA client\, please register as a new client to get employment support.
URL:https://arriveprepared.ca/event/information-session-post-arrival-services-in-british-columbia-workbc-and-career-paths-for-skilled-immigrants-programs/
CATEGORIES:Information Session
ORGANIZER;CN="SOPA":MAILTO:info@arriveprepared.ca
END:VEVENT
BEGIN:VEVENT
DTSTART;TZID=America/Winnipeg:20250923T120000
DTEND;TZID=America/Winnipeg:20250923T130000
DTSTAMP:20260424T044650
CREATED:20250904T143628Z
LAST-MODIFIED:20250904T143736Z
UID:19143-1758628800-1758632400@arriveprepared.ca
SUMMARY:Foreign Credential Recognition Information Session with Manitoba Start
DESCRIPTION:Date & Time: Date and Time: September 23\, 2025\, 12 PM MNT \nDescription: Moving to Manitoba? Join this session to learn how Manitoba Start—the first stop for newcomers in Manitoba—can support your transition and career journey. Designed specifically for SOPA clients\, the session will cover career services to help you find meaningful employment\, support for navigating Foreign Credential Recognition (FCR)\, job matching services that connect you with local employers\, and how SOPA services transition seamlessly into Manitoba Start supports once you arrive. \nPresenter: Manitoba Start \n*To register\, email us: info@arriveprepared.ca. If you are not yet a SOPA client\, please register as a new client to get employment support.
URL:https://arriveprepared.ca/event/foreign-credential-recognition-information-session-with-manitoba-start/
CATEGORIES:FCR Events
ORGANIZER;CN="SOPA":MAILTO:info@arriveprepared.ca
END:VEVENT
END:VCALENDAR