BEGIN:VCALENDAR
VERSION:2.0
PRODID:-//Settlement Online Pre-Arrival (SOPA) - ECPv6.15.17.1//NONSGML v1.0//EN
CALSCALE:GREGORIAN
METHOD:PUBLISH
X-ORIGINAL-URL:https://arriveprepared.ca
X-WR-CALDESC:Events for Settlement Online Pre-Arrival (SOPA)
REFRESH-INTERVAL;VALUE=DURATION:PT1H
X-Robots-Tag:noindex
X-PUBLISHED-TTL:PT1H
BEGIN:VTIMEZONE
TZID:America/Toronto
BEGIN:DAYLIGHT
TZOFFSETFROM:-0500
TZOFFSETTO:-0400
TZNAME:EDT
DTSTART:20240310T070000
END:DAYLIGHT
BEGIN:STANDARD
TZOFFSETFROM:-0400
TZOFFSETTO:-0500
TZNAME:EST
DTSTART:20241103T060000
END:STANDARD
BEGIN:DAYLIGHT
TZOFFSETFROM:-0500
TZOFFSETTO:-0400
TZNAME:EDT
DTSTART:20250309T070000
END:DAYLIGHT
BEGIN:STANDARD
TZOFFSETFROM:-0400
TZOFFSETTO:-0500
TZNAME:EST
DTSTART:20251102T060000
END:STANDARD
BEGIN:DAYLIGHT
TZOFFSETFROM:-0500
TZOFFSETTO:-0400
TZNAME:EDT
DTSTART:20260308T070000
END:DAYLIGHT
BEGIN:STANDARD
TZOFFSETFROM:-0400
TZOFFSETTO:-0500
TZNAME:EST
DTSTART:20261101T060000
END:STANDARD
END:VTIMEZONE
BEGIN:VEVENT
DTSTART;TZID=America/Toronto:20251106T110000
DTEND;TZID=America/Toronto:20251106T120000
DTSTAMP:20260420T170259
CREATED:20251031T175709Z
LAST-MODIFIED:20251031T180452Z
UID:19408-1762426800-1762430400@arriveprepared.ca
SUMMARY:Sector Specific Conversation Circle: Project Management in Canada
DESCRIPTION:Date & Time: Thursday\, November 6\, 11.00am ET \nDescription: Are you interested in building a career in Project Management in Canada? This sector-specific session features an expert in Project Management who will share insights on the field\, including key requirements\, common roles\, and what the industry looks like here in Canada. The speaker will also share his personal journey as an immigrant achieving meaningful employment in this field. \nPresenter: Mehran Jamshidi\, Project Management Consultant \n*To register\, email us: info@arriveprepared.ca. If you are not yet a SOPA client\, please register as a new client to get employment support.
URL:https://arriveprepared.ca/event/sector-specific-conversation-circle-project-management-in-canada/
CATEGORIES:Conversation Circle
ORGANIZER;CN="SOPA":MAILTO:info@arriveprepared.ca
END:VEVENT
END:VCALENDAR