BEGIN:VCALENDAR
VERSION:2.0
PRODID:-//Settlement Online Pre-Arrival (SOPA) - ECPv6.15.17.1//NONSGML v1.0//EN
CALSCALE:GREGORIAN
METHOD:PUBLISH
X-ORIGINAL-URL:https://arriveprepared.ca
X-WR-CALDESC:Events for Settlement Online Pre-Arrival (SOPA)
REFRESH-INTERVAL;VALUE=DURATION:PT1H
X-Robots-Tag:noindex
X-PUBLISHED-TTL:PT1H
BEGIN:VTIMEZONE
TZID:America/Halifax
BEGIN:DAYLIGHT
TZOFFSETFROM:-0400
TZOFFSETTO:-0300
TZNAME:ADT
DTSTART:20240310T060000
END:DAYLIGHT
BEGIN:STANDARD
TZOFFSETFROM:-0300
TZOFFSETTO:-0400
TZNAME:AST
DTSTART:20241103T050000
END:STANDARD
BEGIN:DAYLIGHT
TZOFFSETFROM:-0400
TZOFFSETTO:-0300
TZNAME:ADT
DTSTART:20250309T060000
END:DAYLIGHT
BEGIN:STANDARD
TZOFFSETFROM:-0300
TZOFFSETTO:-0400
TZNAME:AST
DTSTART:20251102T050000
END:STANDARD
BEGIN:DAYLIGHT
TZOFFSETFROM:-0400
TZOFFSETTO:-0300
TZNAME:ADT
DTSTART:20260308T060000
END:DAYLIGHT
BEGIN:STANDARD
TZOFFSETFROM:-0300
TZOFFSETTO:-0400
TZNAME:AST
DTSTART:20261101T050000
END:STANDARD
END:VTIMEZONE
BEGIN:VEVENT
DTSTART;TZID=America/Halifax:20250925T130000
DTEND;TZID=America/Halifax:20250925T140000
DTSTAMP:20260424T203718
CREATED:20250904T171354Z
LAST-MODIFIED:20250904T171354Z
UID:19159-1758805200-1758808800@arriveprepared.ca
SUMMARY:Information Session: Pre-departure information
DESCRIPTION:Date and Time: Sep 25\, 2025+ 1:00-2:00 PM (AT) \nDescription: In this session\, you will gain essential knowledge about what you can and cannot bring into Canada\, the landing process\, and important practical preparation. \nPresenter: Sayed Hashim Sadat (he/him) Pre-Arrival Canada Connect Coordinator-SOPA \n*To register\, email us: info@arriveprepared.ca. If you are not yet a SOPA client\, please register as a new client to get employment support.
URL:https://arriveprepared.ca/event/information-session-pre-departure-information/
CATEGORIES:Information Session
ORGANIZER;CN="SOPA":MAILTO:info@arriveprepared.ca
END:VEVENT
END:VCALENDAR