BEGIN:VCALENDAR
VERSION:2.0
PRODID:-//Settlement Online Pre-Arrival (SOPA) - ECPv6.15.17.1//NONSGML v1.0//EN
CALSCALE:GREGORIAN
METHOD:PUBLISH
X-WR-CALNAME:Settlement Online Pre-Arrival (SOPA)
X-ORIGINAL-URL:https://arriveprepared.ca
X-WR-CALDESC:Events for Settlement Online Pre-Arrival (SOPA)
REFRESH-INTERVAL;VALUE=DURATION:PT1H
X-Robots-Tag:noindex
X-PUBLISHED-TTL:PT1H
BEGIN:VTIMEZONE
TZID:America/Toronto
BEGIN:DAYLIGHT
TZOFFSETFROM:-0500
TZOFFSETTO:-0400
TZNAME:EDT
DTSTART:20250309T070000
END:DAYLIGHT
BEGIN:STANDARD
TZOFFSETFROM:-0400
TZOFFSETTO:-0500
TZNAME:EST
DTSTART:20251102T060000
END:STANDARD
BEGIN:DAYLIGHT
TZOFFSETFROM:-0500
TZOFFSETTO:-0400
TZNAME:EDT
DTSTART:20260308T070000
END:DAYLIGHT
BEGIN:STANDARD
TZOFFSETFROM:-0400
TZOFFSETTO:-0500
TZNAME:EST
DTSTART:20261101T060000
END:STANDARD
BEGIN:DAYLIGHT
TZOFFSETFROM:-0500
TZOFFSETTO:-0400
TZNAME:EDT
DTSTART:20270314T070000
END:DAYLIGHT
BEGIN:STANDARD
TZOFFSETFROM:-0400
TZOFFSETTO:-0500
TZNAME:EST
DTSTART:20271107T060000
END:STANDARD
END:VTIMEZONE
BEGIN:VEVENT
DTSTART;TZID=America/Toronto:20260421T120000
DTEND;TZID=America/Toronto:20260421T133000
DTSTAMP:20260421T062541
CREATED:20260402T182540Z
LAST-MODIFIED:20260402T182540Z
UID:19803-1776772800-1776778200@arriveprepared.ca
SUMMARY:Information Session: Banking in Atlantic Canada
DESCRIPTION:Date & Time: Monday\, April 21\, 12.00 p.m.-1.30 p.m. EST \nDescription: This session is designed for newcomers who want to understand banking\, credit\, and financial systems in Atlantic Canada before arriving\, and is also helpful for those who have recently settled in Nova Scotia\, New Brunswick\, Newfoundland and Labrador\, and Prince Edward Island and are looking to better navigate banking services\, build credit history\, and manage their finances effectively. \nPresenter: Liliane Saad\, Branch Manager/Advisor – Atlantic Newcomer Specialists Team\, RBC Royal Bank \n*To register\, SOPA clients check your emails for our April Events Newsletter with links to register or email us: info@arriveprepared.ca. \nIf you are not yet a SOPA client\, please register as a new client to get employment support and access to our monthly events!
URL:https://arriveprepared.ca/event/information-session-banking-in-atlantic-canada/
CATEGORIES:Information Session
ORGANIZER;CN="SOPA":MAILTO:info@arriveprepared.ca
END:VEVENT
BEGIN:VEVENT
DTSTART;TZID=America/Toronto:20260424T093000
DTEND;TZID=America/Toronto:20260424T103000
DTSTAMP:20260421T062541
CREATED:20260402T185331Z
LAST-MODIFIED:20260402T185331Z
UID:19819-1777023000-1777026600@arriveprepared.ca
SUMMARY:Information Session: Job Search by Heart in the Age of AI\, Canada
DESCRIPTION:Date & Time: Friday\, April 24\, 9:30 a.m.-10:30 a.m. EST \nDescription: This information session introducing newcomers to learning how to navigate the increasingly competitive job market in the age of AI. \nPresenters: Cynthia Wang\, Facilitator\, Job Search Strategies & Cultural Communications\, SOPA Atlantic Canada \n*To register\, SOPA clients check your emails for our April Events Newsletter with links to register or email us: info@arriveprepared.ca. \nIf you are not yet a SOPA client\, please register as a new client to get employment support and access to our monthly events!
URL:https://arriveprepared.ca/event/information-session-job-search-by-heart-in-the-age-of-ai-canada/
CATEGORIES:Information Session
ORGANIZER;CN="SOPA":MAILTO:info@arriveprepared.ca
END:VEVENT
BEGIN:VEVENT
DTSTART;TZID=America/Toronto:20260424T110000
DTEND;TZID=America/Toronto:20260424T120000
DTSTAMP:20260421T062541
CREATED:20260402T184729Z
LAST-MODIFIED:20260402T184729Z
UID:19815-1777028400-1777032000@arriveprepared.ca
SUMMARY:Information Session: Welcome to British Columbia
DESCRIPTION:Date & Time: Friday\, April 24\, 11.00 a.m.-12.00 p.m. EST \nDescription: Learn about housing\, health care\, education\, jobs\, and community services. Connect with provincial partners and access free post‑arrival support designed to help immigrants settle\, grow\, and thrive in their new home. \nPresenter: Anna Romaniuk\, Employment Facilitator\, SOPA British Columbia \n*To register\, SOPA clients check your emails for our April Events Newsletter with links to register or email us: info@arriveprepared.ca. \nIf you are not yet a SOPA client\, please register as a new client to get employment support and access to our monthly events!
URL:https://arriveprepared.ca/event/information-session-welcome-to-british-columbia/
CATEGORIES:Information Session
ORGANIZER;CN="SOPA":MAILTO:info@arriveprepared.ca
END:VEVENT
END:VCALENDAR